BEGIN:VCALENDAR
VERSION:2.0
PRODID:-//wp-events-plugin.com//7.2.3.1//EN
TZID:Europe/London
X-WR-TIMEZONE:Europe/London
BEGIN:VEVENT
UID:932@m25lib.org.uk
DTSTART;TZID=Europe/London:20230606T140000
DTEND;TZID=Europe/London:20230606T160000
DTSTAMP:20230509T091057Z
URL:https://www.m25lib.org.uk/events/aspects-2-the-glam-sector-what-can-we
 -learn-from-galleries-libraries-archives-and-museums-tg1-aspects2_glam/
SUMMARY:ASPECTS 2: The GLAM sector: what can we learn from Galleries\, Libr
 aries\, Archives and Museums [TG1/ASPECTS2_GLAM]
DESCRIPTION:This workshop is part of the cpd25 Aspects programme\, aimed at
  library staff looking to acquire additional skills and knowledge or staff
  working towards Chartership.\n\nThis workshop is designed to share and ce
 lebrate the successes and diversity of four key cultural organisations and
  the lessons we can learn from each other\, in terms of service relevance\
 , modernisation\, professional practices and audience engagement.\n\nProgr
 amme:\n\nAngie Applegate (Royal College of Art) "Supporting staff and stud
 ents in pandemic times."\n\nCaroline Catchpole (National Archives) "“Alo
 ne we can do so little\; together we can do so much”: reflections on dig
 ital resilience and capacity in the archive sector.\n\nJane Bramwell/ Gust
 avo Grandal Montero (Tate Library) “So you want to be an art librarian?
 ”\n\nJames Soderman (FHEA)(Queen Mary University Library) "Teaching info
 rmation literacy – few tips"\n\n&nbsp\;\n\nSpeaker biographies:\n\nAngie
  Applegate has worked in academic libraries for over 10 years\, predominan
 tly in art and design institutions. She is currently at the Royal College 
 of Art\, responsible for liaison with the Schools of Arts &amp\; Humanitie
 s\, Communication and Architecture. Angie has an MA in Library &amp\; Info
 rmation Studies from UCL and a PgCert in Art &amp\; Design Education. She 
 is particularly interested in issues in critical librarianship\, including
  decolonising Library collections and non-hierarchical methods of informat
 ion exchange.\n\nCaroline Catchpole is an Archivist and currently Digital 
 Development Officer at The National Archives where she focuses on supporti
 ng archives in cataloguing and publishing collections data online as well 
 as working on programmes focused on digital skills for the archive sector.
  Caroline has a PG Dip in Archives and Records Management from UCL and a B
 A in History from the University of Essex. She started her career working 
 at the Royal Botanic Gardens\, Kew and the Natural History Museum\, specif
 ically on projects providing access to collections through digitisation. A
 n opportunity to spend a few years working in New York City with community
  archives sparked a keen interest in understanding how to better support s
 maller archives in becoming more digitally confident and resilient.\n\nJan
 e Bramwell. Following a career in Further Education libraries\, Jane joine
 d as Tate Librarian in 2007\, and became Head of Library\, Archive and Col
 lection Access in January 2009. Jane was the Project Lead on Archives &amp
 \; Access and continues to support other digitisation and cataloguing proj
 ects at Tate and is an active member of ARLIS and MLAG. \n\nGustavo Grand
 al Montero is an art librarian and researcher. He joined Tate as Library C
 ollections and Engagement Manage in 2021 and was previously subject librar
 ian and special collections curator at Chelsea College of Arts and Camberw
 ell College of Arts\, University of the Arts London. Trained as an art his
 torian\, he writes and presents regularly on art and librarianship topics 
 and has contributed to a range of academic and professional journals and m
 onographs. He is Editor of the Art Libraries Journal (Cambridge UP).\n\nJa
 mes Soderman holds a library qualification\, as well as a PGcert in Teachi
 ng and Learning. He began his career as a school librarian 20 years ago in
  Sweden and has since worked in various fields\, but mostly within educati
 on\, as a librarian in both Hong Kong and the United Kingdom. He has been 
 working at Queen Mary University of London since 2011 and assumed his curr
 ent position in 2014. As part of his role\, he trains students of all leve
 ls on research related topics and provides support to staff and the curric
 ulum. As well as being the key contact into the Library Services for the F
 aculty of Science and Engineering. During his talk\, he will provide advic
 e on how to effectively engage with learners and how to develop teaching s
 kills.\n\n&nbsp\;\n\nCost\n£25.00 members\n£50.00 non member institution
 s\n\nInformation for joining:\n\n 	This session is virtual and will run vi
 a Zoom. Once your booking has been confirmed\, joining instructions will b
 e emailed the day before the event.\n 	Electronic CPD attendance certifica
 tes can be provided on request. Please request via cpd25@london.ac.uk\n\nC
 ancellations less than one week before the event will be charged a 50% can
 cellation fee. In the event of a ‘no-show’ on the day\, the full fee w
 ill be charged.\n\nTo book a place please use our online booking form. Ple
 ase remember to include your PO number as bookings cannot be confirmed wit
 hout this.
CATEGORIES:cpd25 Aspects,cpd25 Events
END:VEVENT
BEGIN:VTIMEZONE
TZID:Europe/London
X-LIC-LOCATION:Europe/London
BEGIN:DAYLIGHT
DTSTART:20230326T020000
TZOFFSETFROM:+0000
TZOFFSETTO:+0100
TZNAME:BST
END:DAYLIGHT
END:VTIMEZONE
END:VCALENDAR