BEGIN:VCALENDAR
VERSION:2.0
PRODID:-//wp-events-plugin.com//7.2.3.1//EN
TZID:Europe/London
X-WR-TIMEZONE:Europe/London
BEGIN:VEVENT
UID:775@m25lib.org.uk
DTSTART;TZID=Europe/London:20190207T154500
DTEND;TZID=Europe/London:20190207T180000
DTSTAMP:20190104T121125Z
URL:https://www.m25lib.org.uk/events/aspects2_gamification/
SUMMARY:ASPECTS 2: Gamification in Teaching [TG1/ASPECTS2_Gamification]
DESCRIPTION:This workshop is part of the cpd25 Aspects programme\, aimed at
  library staff looking to acquire additional skills and knowledge or staff
  working towards Chartership.\n\n\nGamification in Teaching\n\nGames and o
 ther forms of playful learning have become increasingly popular in informa
 tion literacy teaching. This introductory workshop will explore the value 
 of using games to encourage engagement\, interaction and reflection and sh
 are some practical examples of how digital and analogue games have been de
 veloped and used in academic libraries.\n\nThe facilitators will share the
 ir experiences of using games and other play related activities as a way o
 f enhancing information literacy teaching\, as well as in other contexts s
 uch as staff development programmes and promoting library services.\n\nDel
 egates will have the opportunity to try out games and activities and consi
 der how they might use similar techniques in their own teaching.\n\nWe hop
 e this event will be of interest to anyone interested in teaching or train
 ing within libraries\, and particularly to those working in or considering
  moving into Academic Liaison / Subject Librarian roles.\n\n\nSpeakers\n\n
 \nAlan Wheeler\, Subject Liaison Librarian\, Middlesex University\nDarren 
 Flynn\, Academic Liaison Librarian\, Coventry University\n\nCost\n£50.00 
 members\n£75.00 for other institutions.\n\nThis session takes place along
 side ASPECTS 1: So you want to be a Subject Librarian?\nIf an individual i
 s booked onto both sessions a 10% discount will be applied.\n\nCancellatio
 ns less than one week before the event will be charged a 50% cancellation 
 fee. In the event of a ‘no-show’ on the day\, the full fee will be cha
 rged.\n\nTo book a place please use our online booking form.\n\n&nbsp\;
CATEGORIES:cpd25 Aspects,cpd25 Events
LOCATION: The London Mathematical Society\, 57-58 Russell Square\, London\,
  WC1B 4HS\, United Kingdom
GEO:51.5211757;-0.12442060000000765
X-APPLE-STRUCTURED-LOCATION;VALUE=URI;X-ADDRESS=57-58 Russell Square\, Lond
 on\, WC1B 4HS\, United Kingdom;X-APPLE-RADIUS=100;X-TITLE= The London Math
 ematical Society:geo:51.5211757,-0.12442060000000765
END:VEVENT
BEGIN:VTIMEZONE
TZID:Europe/London
X-LIC-LOCATION:Europe/London
BEGIN:STANDARD
DTSTART:20181028T010000
TZOFFSETFROM:+0100
TZOFFSETTO:+0000
TZNAME:GMT
END:STANDARD
END:VTIMEZONE
END:VCALENDAR