BEGIN:VCALENDAR
VERSION:2.0
PRODID:-//wp-events-plugin.com//7.2.3.1//EN
TZID:Europe/London
X-WR-TIMEZONE:Europe/London
BEGIN:VEVENT
UID:307@m25lib.org.uk
DTSTART;TZID=Europe/London:20090515T235959
DTEND;TZID=Europe/London:20090515T235959
DTSTAMP:20170315T113103Z
URL:https://www.m25lib.org.uk/events/cpd25-planning-day/
SUMMARY:cpd25 Planning Day
DESCRIPTION:cpd25 Planning Day\n15th May 2009\n\nRoyal Statistical Society\
 , Errol Street\, EC1Y 8LX\nhttp://www.rss.org.uk/main.asp?page=0  \n\nThe 
 programme\, which may be subject to slight amendments on the day\, is as f
 ollows:\n9.30 registration\n10.00 introduction from Mary Nixon\n10.20 repo
 rt from Sarah Arkle\n10.40 group discussions\n11.20 coffee\n11.50 plenary 
 discussion\n12.30 lunch\n2.00 steering group discussion\n\nThe morning ses
 sion is open to all cpd25 Task and Steering Group members\; the afternoon 
 session is for Steering Group only. \n\nLunch will be provided.
CATEGORIES:M25 Events
END:VEVENT
BEGIN:VTIMEZONE
TZID:Europe/London
X-LIC-LOCATION:Europe/London
BEGIN:DAYLIGHT
DTSTART:20090329T020000
TZOFFSETFROM:+0000
TZOFFSETTO:+0100
TZNAME:BST
END:DAYLIGHT
END:VTIMEZONE
END:VCALENDAR