BEGIN:VCALENDAR
VERSION:2.0
PRODID:-//wp-events-plugin.com//7.2.3.1//EN
TZID:Europe/London
X-WR-TIMEZONE:Europe/London
BEGIN:VEVENT
UID:967@m25lib.org.uk
DTSTART;TZID=Europe/London:20240412T140000
DTEND;TZID=Europe/London:20240412T150000
DTSTAMP:20240306T095203Z
URL:https://www.m25lib.org.uk/events/exchange-of-experience-accessible-tra
 ining-tg4/
SUMMARY:Exchange of Experience: Building accessible training in your depart
 ment  [TG4/Accessible]
DESCRIPTION:Twitter: @cpd25_M25 #cpd25\n\nThis is part of a series of onlin
 e events for M25 Consortium members\, aiming to provide a safe and support
 ive space for staff to meet and share issues and experiences of library wo
 rk.\n\nJoin us for an open discussion group covering the theme of building
  accessibility. Jessica Wykes and Felicity Crentsil (both Library Services
  - City\, University of London) will provide in insight into setting up tr
 aining for Library Services on the subject of supporting Visually Impaired
  People (VIP) and/or blind people.\n\nWe hope this session will provide an
  opportunity for colleagues across the sector to talk about their own acce
 ssibility training methods\, as well as challenges\, successes\, and good 
 practices that they've put in place. Share your experiences and hear how 
 others have got on.\n\nJoin us for an informal sharing of ideas and experi
 ences with supportive colleagues from a variety of library backgrounds. Th
 e session will run for an hour\, using Zoom. Moderators will be present to
  help collate ideas which can be shared with all participants.\n\nModerato
 rs:\n\nMartin Edwards\, City\, University of London\n\nSally Brock\, Kings
  College London\n\n&nbsp\;\nInformation for joining this session:\n\n\n\n 
 	This session is virtual and will run via Zoom. Once your booking has been
  confirmed\, joining instructions will be emailed the day before the event
 .\n\nBookings for this free event are open to members of the M25 Consortiu
 m of Academic Libraries only.\n\nTo book a space please use our online boo
 king form for M25 members (a PO number is not required - please enter 'n/a
 ' in the purchase order field on the booking form).\n\nIf subsequent to bo
 oking a place on this event you find that you are unable to attend\, we as
 k that you let us know as soon as possible as places are very limited.\n\n
 \n&nbsp\;
CATEGORIES:M25 Events
END:VEVENT
BEGIN:VTIMEZONE
TZID:Europe/London
X-LIC-LOCATION:Europe/London
BEGIN:DAYLIGHT
DTSTART:20240331T020000
TZOFFSETFROM:+0000
TZOFFSETTO:+0100
TZNAME:BST
END:DAYLIGHT
END:VTIMEZONE
END:VCALENDAR