BEGIN:VCALENDAR
VERSION:2.0
PRODID:-//wp-events-plugin.com//7.2.3.1//EN
TZID:Europe/London
X-WR-TIMEZONE:Europe/London
BEGIN:VEVENT
UID:888@m25lib.org.uk
DTSTART;TZID=Europe/London:20220505T140000
DTEND;TZID=Europe/London:20220505T151500
DTSTAMP:20220504T121116Z
URL:https://www.m25lib.org.uk/events/from-policy-soup-to-deliverable-strat
 egy-a-briefing-for-senior-library-staff/
SUMMARY:From Policy Soup to Deliverable Strategy: a briefing for senior lib
 rary staff
DESCRIPTION:M25 Directors' Briefing\n\nDirectors and Heads of Service are i
 nvited to attend a Directors’ Briefing titled ‘From Policy Soup to Del
 iverable Strategy: a briefing for senior library staff’. Directors are i
 nvited to send a deputy if unable to attend themselves. \n\nIn this Direc
 tors’ Briefing\, our speakers will present on their own experience and r
 eflections developing and implementing policy in response to shifting exte
 rnal environments\, and how this also influences strategy development. The
 re will be a particular focus on engaging users and stakeholders in develo
 ping sustainable\, policy-related services. This session is intended to pr
 ovide library leaders with a range of perspectives and tips on connecting 
 policy with strategy. \n\nProgramme \n\n14.00 – Welcome and introducti
 on (Andrew Preater\, Director of Library Services\, University of West Lon
 don) \n\n14.05 – Peter Bonfield\, Vice-Chancellor\, University of Westm
 inster and Deputy Chair of London Higher \n\nQ&amp\;A Chaired by Andrew P
 reater \n\n14.40 –  Andrew Oakes\, Senior Knowledge and Evidence Lead\,
  Department of Health and Social Care \n\nQ&amp\;A Chaired by Matthew Law
 son\, Director of Library and Student Support\, Middlesex University\n\n15
 .15 – Close (Andrew Preater) \n\nCosts\n\n 	Members - M25 Consortium m
 embers receive one free Directors’ Briefing place per institution per me
 mbership year. Additional member places cost £50 \n 	Non-M25 Consortium 
 members £75 \n\nCancellation Policy\n\nCancellations less than one week 
 before the event will be charged a 50% cancellation fee.\nIn the event of 
 a ‘no-show’ on the day\, the full fee will be charged.\n\nInformation 
 for joining this session\n\n 	This session is virtual and will run via Zoo
 m. If your booking has been confirmed\, joining instructions will be email
 ed to you one day prior to the event. If you do not receive the joining in
 structions please contact cpd25@london.ac.uk.\n\nTo book a place please us
 e our online booking form\, remembering to include your PO number if appli
 cable. Booking is essential.
CATEGORIES:M25 Events
END:VEVENT
BEGIN:VTIMEZONE
TZID:Europe/London
X-LIC-LOCATION:Europe/London
BEGIN:DAYLIGHT
DTSTART:20220327T020000
TZOFFSETFROM:+0000
TZOFFSETTO:+0100
TZNAME:BST
END:DAYLIGHT
END:VTIMEZONE
END:VCALENDAR