BEGIN:VCALENDAR
VERSION:2.0
PRODID:-//wp-events-plugin.com//7.2.3.1//EN
TZID:Europe/London
X-WR-TIMEZONE:Europe/London
BEGIN:VEVENT
UID:91@m25lib.org.uk
DTSTART;TZID=Europe/London:20051020T235959
DTEND;TZID=Europe/London:20051020T235959
DTSTAMP:20170315T110202Z
URL:https://www.m25lib.org.uk/events/library-information-courses-applying-
 to-study-lis-2/
SUMMARY:Library & Information Courses: Applying to Study LIS
DESCRIPTION:Library & Information Courses: Applying to Study LIS\nSenate Ho
 use Library\nManuscript Seminar Room\n20th October 2004\n2.00pm to 5.30pm\
 n\nThis is an invaluable event aimed at graduate trainees and anyone who i
 s considering applying for LIS courses\, whether full or part-time.\n\nCPD
 25 are pleased to have the following speakers:\n\n      Michael Martin (CI
 LIP)\n      Michael will be discussing the professional and career benefit
 s of further study.\n\n      Dr Tamara Eisenschitz (City University)\n    
   Tamara will discuss the courses available in the “market place??? and 
 the attributes\, qualities and qualifications that training providers are 
 looking for.\n\n      Vanda Broughton (UCL)\n      Vanda will discuss the 
 courses available in the “market place??? and the attributes\, qualities
  and qualifications that training providers are looking for.\n\n      Nick
  Bevan (Brunel University)\n      As Director of Library Services at Brune
 l University\, Nick is well placed to discuss the employers’ view of pro
 fessional qualifications and the impact it will have on your employability
 .\n\n      Andy Oliver (recently completed his part-time course at UCL)\n 
      Andy will be discussing his recent experience of LIS study. Who bette
 r to give you the “reality??? version?\n\nCost is £25 for CPD25 subscri
 bers\, £35 M25 affiliate members and £45 for other institutions\, includ
 ing refreshments\n\nPlease note that there are only 30 places available fo
 r this event\, which will be allocated on a first-come-first-served basis.
  Bookings will close on the 13th October 2004 and any cancellations after 
 that date will incur a 50% cancellation fee. Provisional bookings will be 
 held for 7 working days. A “no show??? on the day will incur 100% cancel
 lation charges.
CATEGORIES:M25 Events
END:VEVENT
BEGIN:VTIMEZONE
TZID:Europe/London
X-LIC-LOCATION:Europe/London
BEGIN:DAYLIGHT
DTSTART:20050327T020000
TZOFFSETFROM:+0000
TZOFFSETTO:+0100
TZNAME:BST
END:DAYLIGHT
END:VTIMEZONE
END:VCALENDAR