BEGIN:VCALENDAR
VERSION:2.0
PRODID:-//wp-events-plugin.com//7.2.3.1//EN
TZID:Europe/London
X-WR-TIMEZONE:Europe/London
BEGIN:VEVENT
UID:860@m25lib.org.uk
DTSTART;TZID=Europe/London:20210324T140000
DTEND;TZID=Europe/London:20210324T154500
DTSTAMP:20210322T123209Z
URL:https://www.m25lib.org.uk/events/m25-members-seminar-library-hub-knowl
 edge-exchange/
SUMMARY:M25 Members' Seminar: Library Hub Knowledge Exchange
DESCRIPTION:The Search25 Task and Finish Group invite staff from M25 member
  institutions to a seminar at 2 pm on Wednesday 24th March to provide info
 rmation and support for M25 members who would like to learn more about Jis
 c's Library Hub/NBK shared catalogue service in advance of the planned ret
 irement of the Search25 service in July 2021. We have invited Jisc to talk
  with M25 members about the process and benefits of joining Library Hub an
 d there will be an opportunity to ask questions. There will also be a smal
 l panel of M25 member institutions who are already in Library Hub discussi
 ng their experiences. Please see the draft programme below.\n\nLocation: Z
 oom (the link will be sent to delegates in advance of the event)\n\nCost: 
 Free of charge - registration is essential\, please use the form at the bo
 ttom of the page.\n\nEligibility to attend: M25 Members only\nStaff from a
 ll M25 member institutions are welcome to attend\, but the event is specif
 ically aimed at Systems Librarians and Heads of Service or equivalent in i
 nstitutions not yet using Library Hub.\n\nProgramme:\n\n14.00 -14.10 Welco
 me and update on Search25 progress (Stuart Hunt\, Search25 Task and Finish
  Group Chair)\n\n\n\n14.10 -14.40 Library Hub Information Session with Jis
 c (Bethan Ruddock\, Jisc)\n\n\n\n14.40 - 15.00 Q&amp\;A with Jisc (Bethan 
 Ruddock\, Chaired by Stuart Hunt\, University of Reading)\n\n\n\n\n15.00 -
  15.10 Comfort break\n\n\n\n15.10 - 15.30 Panel: M25 Member Case Studies (
 Chaired by Tamsin Rothery\, Oxford Brookes University)\n\n\n 	Jonathan Luc
 as\, Collections Services Manager\, University for the Creative Arts (Sirs
 iDynix Symphony)\n 	Chris Manning\, Collections &amp\; Digital Services Li
 brarian\, London School of Hygiene &amp\; Tropical Medicine (Ex Libris Alm
 a)\n 	Kirsty Carr\, Metadata Coordinator\, City\, University of London (In
 novative Sierra)\n\n\n\n15.30 - 15.45 Q&amp\;A with the panel\n\n\n\n15.45
  M25 Library Hub Buddying Scheme and closing remarks (Stuart Hunt)\n\n\n
CATEGORIES:M25 Events
END:VEVENT
BEGIN:VTIMEZONE
TZID:Europe/London
X-LIC-LOCATION:Europe/London
BEGIN:STANDARD
DTSTART:20201025T010000
TZOFFSETFROM:+0100
TZOFFSETTO:+0000
TZNAME:GMT
END:STANDARD
END:VTIMEZONE
END:VCALENDAR