BEGIN:VCALENDAR
VERSION:2.0
PRODID:-//wp-events-plugin.com//7.2.3.1//EN
TZID:Europe/London
X-WR-TIMEZONE:Europe/London
BEGIN:VEVENT
UID:610@m25lib.org.uk
DTSTART;TZID=Europe/London:20150513T160000
DTEND;TZID=Europe/London:20150513T180000
DTSTAMP:20170315T121007Z
URL:https://www.m25lib.org.uk/events/professional-qualification-workshops-
 e-resources-collection-management-event-ref-tg1pqw9/
SUMMARY:Professional Qualification Workshops: E-resources Collection Manage
 ment [Event Ref. No. TG1/PQW9]
DESCRIPTION:Twitter – #cpd25PQW9\n\n&nbsp\;\n\nThis series is devised pri
 marily to support candidates for professional qualifications. However\, ma
 ny of the events in the programme are highly relevant to all levels of lib
 rary staff – who may or may not be seeking Certification or Chartership\
 , but who wish to further their professional skills and development.\n\nTh
 is workshop will focus on the fundamentals of e-resources collection devel
 opment and management. The e-resources covered will include working exampl
 es from the Kingston University collections – e-books\, journals\, Speci
 al Collections\, digital archives\, open access repositories and databases
 .\n\nBy the end of the session participants will have an overview of the e
 -resource strategies\, policies and infrastructure that support the e-reso
 urce collections which form the core of a modern Academic Digital Library.
  This is an interactive workshop involving a presentation\, group discussi
 on and practical group work.\n\n&nbsp\;\n\nSpeakers:\n\nNiki Wilson and El
 lie Hunt\, Kingston University\n\n&nbsp\;\n\nVenue:\n\nRoom S3.05\, Strand
  Campus\, King’s College London\, WC2R 2LS\n\nhttp://www.kcl.ac.uk/campu
 slife/campuses/strand/Strand.aspx\n\n&nbsp\;\n\nCost:\n\nIndividual worksh
 op – £40 for members and £60 for other institutions.\n\nPlease note th
 at there are limited places available for this event.\n\nCancellations les
 s than one week before the event will be charged a 50% cancellation fee. I
 n the event of a ‘no-show’ on the day\, the full fee will be charged.\
 n\n&nbsp\;\n\nTo book a place please use our online booking form or email 
 the administrator via cpd25@london.ac.uk
CATEGORIES:cpd25 Events
LOCATION:King's College London\, Strand\, London\, WC2R 2LS\, United Kingdo
 m
GEO:51.5112335;-0.119145900000035
X-APPLE-STRUCTURED-LOCATION;VALUE=URI;X-ADDRESS=Strand\, London\, WC2R 2LS\
 , United Kingdom;X-APPLE-RADIUS=100;X-TITLE=King's College London:geo:51.5
 112335,-0.119145900000035
END:VEVENT
BEGIN:VTIMEZONE
TZID:Europe/London
X-LIC-LOCATION:Europe/London
BEGIN:DAYLIGHT
DTSTART:20150329T020000
TZOFFSETFROM:+0000
TZOFFSETTO:+0100
TZNAME:BST
END:DAYLIGHT
END:VTIMEZONE
END:VCALENDAR