BEGIN:VCALENDAR
VERSION:2.0
PRODID:-//wp-events-plugin.com//7.2.3.1//EN
TZID:Europe/London
X-WR-TIMEZONE:Europe/London
BEGIN:VEVENT
UID:898@m25lib.org.uk
DTSTART;TZID=Europe/London:20220810T140000
DTEND;TZID=Europe/London:20220810T160000
DTSTAMP:20220801T115010Z
URL:https://www.m25lib.org.uk/events/tg1-lsbu-hub/
SUMMARY:Visit to the LSBU Hub [TG1v/LSBU]
DESCRIPTION:*This visit is now full. New bookings will be added to a waitin
 g list*\n\nOpening soon is London South Bank University’s long-awaited r
 enovation of its London Road building\, renamed as the LSBU Hub and new ho
 me of Library and Learning Resources. Join us for a tour of our new space\
 , which includes an integrated Digital Skills Centre and Archives.\n\nBook
 ings for visits are free of charge but are open to members of the M25 Cons
 ortium of Academic Libraries only.\n\n&nbsp\;\n\n*This visit is now full. 
 New bookings will be added to a waiting list. To book a place on the waiti
 ng list please use our online booking form for M25 Members.*\n\nIf subsequ
 ent to booking a place on a cpd25 visit you find that you are unable to a
 ttend\, we ask that you let us know this as soon as possible. Cancellation
 s received less than three working days before the event will be charged a
  £15 cancellation fee. In the event of a ‘no-show’ on the day\, £25 
 will be charged.
CATEGORIES:cpd25 Visits,M25 Events
LOCATION:LSBU Hub Reception\, London South Bank University\, 100 -116 Londo
 n Road\, London\, SE1 6LN\, United Kingdom
GEO:51.497559;-0.102419
X-APPLE-STRUCTURED-LOCATION;VALUE=URI;X-ADDRESS=100 -116 London Road\, Lond
 on\, SE1 6LN\, United Kingdom;X-APPLE-RADIUS=100;X-TITLE=LSBU Hub Receptio
 n\, London South Bank University:geo:51.497559,-0.102419
END:VEVENT
BEGIN:VTIMEZONE
TZID:Europe/London
X-LIC-LOCATION:Europe/London
BEGIN:DAYLIGHT
DTSTART:20220327T020000
TZOFFSETFROM:+0000
TZOFFSETTO:+0100
TZNAME:BST
END:DAYLIGHT
END:VTIMEZONE
END:VCALENDAR