BEGIN:VCALENDAR
VERSION:2.0
PRODID:-//wp-events-plugin.com//7.2.3.1//EN
TZID:Europe/London
X-WR-TIMEZONE:Europe/London
BEGIN:VEVENT
UID:915@m25lib.org.uk
DTSTART;TZID=Europe/London:20230130T100000
DTEND;TZID=Europe/London:20230130T130000
DTSTAMP:20221215T102137Z
URL:https://www.m25lib.org.uk/events/training-for-supervisors-role-feedbac
 k-delegation-tg4-supervisor/
SUMMARY:Training for supervisors: role\, feedback & delegation [TG4/Supervi
 sor]
DESCRIPTION:*THIS IS EVENT IS NOW FULL AND NEW BOOKINGS WILL BE ADDED TO TH
 E WAITING LIST*\n\nMost libraries have a supervisor role\, but managing st
 aff day-to-day without being their line manager is a tricky business. How 
 do you delegate\, share knowledge and skills and correct errors when it ca
 n seem like you have no real authority?\n\nThis 3-hour session clarifies t
 he role &amp\; responsibilities of the supervisor\, giving clear guideline
 s for the basic functions of supervising staff\, as well as tips for deleg
 ating\, upskilling\, giving feedback and dealing with challenges to your r
 ole.\n\nWe aim to have a fun\, participatory session\, based around real c
 oncerns and situations brought up on the course.\n\nProgramme:\n\nRole and
  Delegation:\n\n 	Intros: supervisor problems\n 	Talk: your source of auth
 ority\n 	Chat: checklist of supervisor role\n 	Talk: the delegation cycle\
 n 	Group work: actions at each stage\n\nAfter listing common supervisor pr
 oblems\, there is a short presentation on the support supervisors can use 
 when supervising staff. We go on to discuss a checklist of supervisor role
 s and style (empowering\, encouraging\, overseeing etc) which leads natura
 lly into a discussion of the delegation cycle from setting a task to perfo
 rmance review. Each stage of this is analysed in breakout groups to come u
 p with a good practice guide for delegation.\n\nFeedback\, Training &amp\;
  Challenges:\n\n 	Group work: Bad news exercise\n 	Chat: how to give feedb
 ack\n 	Exercise: training skills\n 	Debrief: training and upskilling\n 	Ch
 at: challenges to your role\n\nComing back from the break\, we go into a f
 un ‘how NOT to give feedback’ exercise\, which leads into a discussion
  on corrective feedback which can be empowering and productive We then loo
 k at training/coaching via a demonstration exercise by the trainer which i
 s debriefed for good upskilling skills. Finally we look at ways in which s
 taff can challenge the supervisor role\, and how to deal with these positi
 vely.\n\nAbout the trainer: \n\nAsh Charlton has delivered very successful
  and enjoyable HR and diversity-related courses and facilitated sessions f
 or over 20 years. He has extensive experience with local authorities\, uni
 versities and charities as well as international NGOs and the UN. The Sund
 ay Times described his style as ‘participatory\, fun and respectful’.\
 n\n&nbsp\;\n\n\n\n&nbsp\;\n\nInformation for joining:\n\n 	This session is
  virtual and will run via Zoom. Once your booking has been confirmed\, joi
 ning instructions will be emailed the day before the event.\n 	The trainer
  is Ash Charlton -https://www.acetrainingcourses.co.uk/\n 	Electronic CPD 
 attendance certificates can be provided on request. Please request via cpd
 25@london.ac.uk\n\nCost\n£25.00 members\n£50.00 non-member institutions.
 \n\nCancellations less than one week before the event will be charged a 50
 % cancellation fee. In the event of a ‘no-show’ on the day\, the full 
 fee will be charged.\n\n*THIS IS EVENT IS NOW FULL AND NEW BOOKINGS WILL B
 E ADDED TO THE WAITING LIST*\n\nTo book a place on the waiting list\, plea
 se use our online booking form. 
CATEGORIES:cpd25 Events
END:VEVENT
BEGIN:VTIMEZONE
TZID:Europe/London
X-LIC-LOCATION:Europe/London
BEGIN:STANDARD
DTSTART:20221030T010000
TZOFFSETFROM:+0100
TZOFFSETTO:+0000
TZNAME:GMT
END:STANDARD
END:VTIMEZONE
END:VCALENDAR