BEGIN:VCALENDAR
VERSION:2.0
PRODID:-//wp-events-plugin.com//7.2.3.1//EN
TZID:Europe/London
X-WR-TIMEZONE:Europe/London
BEGIN:VEVENT
UID:330@m25lib.org.uk
DTSTART;TZID=Europe/London:20100330T163000
DTEND;TZID=Europe/London:20100330T163000
DTSTAMP:20170315T113642Z
URL:https://www.m25lib.org.uk/events/using-social-media-to-extend-your-web
 sites-reach-event-ref-no-tg4usm/
SUMMARY:Using Social Media to extend your Website’s Reach [Event Ref. No.
  TG4/USM]
DESCRIPTION:This half-day event considers how to get high rankings for web 
 pages and how to extend a web presence using social media.  Some practical
  exercises on evaluating web content will be included.  The event is aimed
  at anyone who contributes content to their library’s or organisation’
 s website.  Please note that this is not a technical writing course.\n\nTh
 e speaker\, Karen Blakeman\, has worked in the information profession for 
 over twenty years and has been a freelance consultant since 1989. Her comp
 any (RBA Information Services) provides training and consultancy on the us
 e of the Internet\, and on accessing and managing information resources.\n
 \nProgramme:\n\n1.30pm:  Arrival\, welcome and registration\n\n2.00pm:  Ge
 tting a better ranking with search engines - creating high ranking content
  \n\n2.30pm:  Design of a webpage - how design helps or hinders viewers \n
 \n3pm:  Break\n\n3.15pm:  Using blogs\, wikis\, Twitter\, Facebook and oth
 er social media to increase the reach of your website \n\n16.30pm:  End of
  session.\n\nPractical exercises on evaluating some web content will be in
 cluded.\n\nVenue: Room MAL 413\, Birkbeck College\, University of London\,
  http://www.bbk.ac.uk/maps \n\nPlease note that there are limited places a
 vailable for this event.  \n\nTo book a place please use our online bookin
 g form or email the administrator via cpd25@lse.ac.uk \n\nCost: £95 for C
 PD25 members and £115 for other institutions. \n\nCancellations less than
  one week before the event will be charged a 50% cancellation fee. In the 
 event of a ‘no-show’ on the day\, the full fee will be charged.
CATEGORIES:cpd25 Events
END:VEVENT
BEGIN:VTIMEZONE
TZID:Europe/London
X-LIC-LOCATION:Europe/London
BEGIN:DAYLIGHT
DTSTART:20100328T020000
TZOFFSETFROM:+0000
TZOFFSETTO:+0100
TZNAME:BST
END:DAYLIGHT
END:VTIMEZONE
END:VCALENDAR