BEGIN:VCALENDAR
VERSION:2.0
PRODID:-//wp-events-plugin.com//7.2.3.1//EN
TZID:Europe/London
X-WR-TIMEZONE:Europe/London
BEGIN:VEVENT
UID:191@m25lib.org.uk
DTSTART;TZID=Europe/London:20071213T170000
DTEND;TZID=Europe/London:20071213T170000
DTSTAMP:20170315T112339Z
URL:https://www.m25lib.org.uk/events/visit-bronzefield-prison/
SUMMARY:Visit: Bronzefield Prison
DESCRIPTION:This event is now FULLY BOOKED.\n\nHMP Bronzefield\nWoodthorpe 
 Road\nAshford\nMiddlesex\nTW15 3JZ\n\nNearest Train Station: Ashford\n\nUR
 L: http://www.hmprisonservice.gov.uk/prisoninformation/locateaprison/priso
 n.asp?id=1650\,15\,2\,15\,1650\,0\n\nWe are please to offer this visit to 
 Bronzefield Library\, contained within a modern purpose built prison for w
 omen which opened in 2004. Our visit\, hosted by Sibylla Parkhill\, will b
 egin with a talk in the Library and will finish with a short tour of the p
 rison. \n\nEach attendee will need to complete a Police National Computer 
 (PNC) form and return it to the cpd25 administrator with a photocopy of th
 eir passport.\nhttp://www.hmprisonservice.gov.uk/prisoninformation/locatea
 prison/prison.asp?id=1650\,15\,2\,15\,1650\,0
CATEGORIES:M25 Events
END:VEVENT
BEGIN:VTIMEZONE
TZID:Europe/London
X-LIC-LOCATION:Europe/London
BEGIN:STANDARD
DTSTART:20071028T010000
TZOFFSETFROM:+0100
TZOFFSETTO:+0000
TZNAME:GMT
END:STANDARD
END:VTIMEZONE
END:VCALENDAR