BEGIN:VCALENDAR
VERSION:2.0
PRODID:-//wp-events-plugin.com//7.2.3.1//EN
TZID:Europe/London
X-WR-TIMEZONE:Europe/London
BEGIN:VEVENT
UID:1040@m25lib.org.uk
DTSTART;TZID=Europe/London:20260707T143000
DTEND;TZID=Europe/London:20260707T160000
DTSTAMP:20260311T100642Z
URL:https://www.m25lib.org.uk/events/visit-to-london-college-of-fashion-li
 brary-tg1v-lcf/
SUMMARY:Visit to London College of Fashion Library[TG1v/LCF] - FULL
DESCRIPTION:&nbsp\;\n\n*THIS VISIT IS NOW FULL AND A WAITING LIST IS AVAILA
 BLE*\n\nFounded in 1906\, London College of Fashion\, UAL is a leader in f
 ashion design\, media and business education.\n\nThe library moved from Ox
 ford Circus to East Bank\; the UK’s newest cultural quarter at the heart
  of Queen Elizabeth Olympic Park in 2023.\n\nThis is an opportunity to vis
 it LCF Library\, have a tour of the space and see its collections and spe
 cial collections including the Materials library which contains material
 s from a range of plant-based\, paper\, fabrics and textiles.\n\n\nAccessi
 bility: Seats will be available within the space and there is lift access 
 to the library\, which is on the second floor\n\n&nbsp\;\n\n\nBookings for
  visits are free of charge but are open to members of the M25 Consortium o
 f Academic Libraries only.\n\n*THIS VISIT IS NOW FULL AND A WAITING LIST I
 S AVAILABLE* To book a place on the waiting list\, please use our online b
 ooking form for M25 Members.\n\nIf subsequent to booking a place on a cpd2
 5 visit you find that you are unable to attend\, we ask that you let us k
 now this as soon as possible.\n\nCancellations received less than three wo
 rking days before the event will be charged a £15 cancellation fee. In th
 e event of a ‘no-show’ on the day\, £25 will be charged.\n\n&nbsp\;\n
 \nPlease note that advance booking is required. If you have not received a
  booking confirmation email\, you won't be included on the registration li
 st and may be turned away on the day. Please email cpd25@london.ac.uk if y
 ou are unsure if you have a confirmed booking.
CATEGORIES:cpd25 Visits
LOCATION:London College of Fashion\, 105 Carpenters Road\, London\, E20 2AR
 \, United Kingdom
GEO:51.54196;-0.012997
X-APPLE-STRUCTURED-LOCATION;VALUE=URI;X-ADDRESS=105 Carpenters Road\, Londo
 n\, E20 2AR\, United Kingdom;X-APPLE-RADIUS=100;X-TITLE=London College of 
 Fashion:geo:51.54196,-0.012997
END:VEVENT
BEGIN:VTIMEZONE
TZID:Europe/London
X-LIC-LOCATION:Europe/London
BEGIN:DAYLIGHT
DTSTART:20260329T020000
TZOFFSETFROM:+0000
TZOFFSETTO:+0100
TZNAME:BST
END:DAYLIGHT
END:VTIMEZONE
END:VCALENDAR