BEGIN:VCALENDAR
VERSION:2.0
PRODID:-//wp-events-plugin.com//7.2.3.1//EN
TZID:Europe/London
X-WR-TIMEZONE:Europe/London
BEGIN:VEVENT
UID:1038@m25lib.org.uk
DTSTART;TZID=Europe/London:20260413T140000
DTEND;TZID=Europe/London:20260413T153000
DTSTAMP:20260408T095853Z
URL:https://www.m25lib.org.uk/events/visit-to-national-art-library-tg2v-va
 /
SUMMARY:Visit to National Art Library[TG2v/V&A] - FULL
DESCRIPTION:&nbsp\;\n\n&nbsp\;\n\n\n&nbsp\;\n\n*THIS VISIT IS NOW FULL AND 
 BOOKINGS HAVE CLOSED*\n\ncpd25 is delighted to offer a professional develo
 pment visit to the National Art Library at the Victoria and Albert Museum 
 — one of the world’s foremost libraries dedicated to art\, design\, an
 d visual culture.\n\nThis visit will provide participants with a unique op
 portunity to learn more about the National Art Library’s collections\, s
 ervices\, and behind-the-scenes operations. The session will begin with a 
 public talk led by library staff\, followed by a short introduction to the
  library’s collections and service provision\, and a guided tour of the 
 library stores\, which are not normally accessible to the public.\n\nThe v
 isit is designed for library and information professionals interested in a
 rt libraries\, special collections\, collection management\, and research 
 support in a museum context\, and will offer valuable insight into how a n
 ational museum library supports scholarship\, exhibitions\, and public eng
 agement.\n\nSchedule:\n\n· Talk: 2:00–2:30 pm\n\n· Introduction to col
 lections and services: 2:30–2:50 pm\n\n· Library stores tour: 2:50–3:
 30 pm\n\n&nbsp\;\n\n\nBookings for visits are free of charge but are open 
 to members of the M25 Consortium of Academic Libraries only.\n\n&nbsp\;\n\
 n*THIS VISIT IS NOW FULL AND BOOKINGS HAVE CLOSED*\n\nIf subsequent to boo
 king a place on a cpd25 visit you find that you are unable to attend\, we
  ask that you let us know this as soon as possible.\n\nCancellations recei
 ved less than three working days before the event will be charged a £15 c
 ancellation fee. In the event of a ‘no-show’ on the day\, £25 will be
  charged.\n\n&nbsp\;\n\nPlease note that advance booking is required. If y
 ou have not received a booking confirmation email\, you won't be included 
 on the registration list and may be turned away on the day. Please email c
 pd25@london.ac.uk if you are unsure if you have a confirmed booking.
CATEGORIES:cpd25 Visits
LOCATION:V&A South Kensington\, Cromwell Road\, London\, SW7 2RL\, United K
 ingdom
GEO:51.495632;-0.174038
X-APPLE-STRUCTURED-LOCATION;VALUE=URI;X-ADDRESS=Cromwell Road\, London\, SW
 7 2RL\, United Kingdom;X-APPLE-RADIUS=100;X-TITLE=V&A South Kensington:geo
 :51.495632,-0.174038
END:VEVENT
BEGIN:VTIMEZONE
TZID:Europe/London
X-LIC-LOCATION:Europe/London
BEGIN:DAYLIGHT
DTSTART:20260329T020000
TZOFFSETFROM:+0000
TZOFFSETTO:+0100
TZNAME:BST
END:DAYLIGHT
END:VTIMEZONE
END:VCALENDAR