BEGIN:VCALENDAR
VERSION:2.0
PRODID:-//wp-events-plugin.com//7.2.3.1//EN
TZID:Europe/London
X-WR-TIMEZONE:Europe/London
BEGIN:VEVENT
UID:1002@m25lib.org.uk
DTSTART;TZID=Europe/London:20250513T140000
DTEND;TZID=Europe/London:20250513T150000
DTSTAMP:20250304T161020Z
URL:https://www.m25lib.org.uk/events/visit-to-rhs-lindley-tg2v/
SUMMARY:Visit to RHS Lindley library [TG2v/RHS Lindley] - VISIT NOW FULL
DESCRIPTION:*THIS VISIT IS NOW FULL AND A WAITING LIST IS AVAILABLE*\n\nJoi
 n the RHS Lindley Library for a Collections up Close tour of our library t
 reasures. Over the course of an hour\, a member of the library team will s
 hare a selection of collection highlights\, which shine a light on the peo
 ple and plants that have shaped garden design\, the food we eat and the gr
 een spaces around us.\n\nRHS Lindley Library\n\n80 Vincent Square\n\nLondo
 n SW1P 2PE\n\nAccessibility: There is step-free access into the main RHS b
 uilding and the Library reception area via a ramped entrance. We are unabl
 e to offer admittance to our lower-level facilities (where the tour is sch
 eduled to take place) to those who require assistance with stepped access.
  We do not have accessible toilets onsite. A hearing loop can be arranged 
 with prior notice. Please contact cpd25@london.ac.uk with any queries.\n\n
 &nbsp\;\n\n*THIS VISIT IS NOW FULL AND A WAITING LIST IS AVAILABLE*\n\nBoo
 kings for visits are open to members of the M25 Consortium of Academic Lib
 raries only.\n\nTo book a place on the waiting list\, please use our onlin
 e booking form for M25 Members and enter 'n/a' in the purchase order field
 .\n\nIf subsequent to booking a place on a cpd25 visit you find that you 
 are unable to attend\, we ask that you let us know this as soon as possibl
 e.\n\nCancellations received less than three working days before the event
  will be charged a £15 cancellation fee. In the event of a ‘no-show’ 
 on the day\, £25 will be charged.\n\n&nbsp\;\n\nPlease note that advance 
 booking is required. If you have not received a booking confirmation email
 \, you won't be included on the registration list and may be turned away o
 n the day. Please email cpd25@london.ac.uk if you are unsure if you have a
  confirmed booking.
CATEGORIES:cpd25 Visits
LOCATION:RHS Headquarters\, 80 Vincent Square\, London\, SW1P 2PE\, United 
 Kingdom
GEO:51.494462;-0.134741
X-APPLE-STRUCTURED-LOCATION;VALUE=URI;X-ADDRESS=80 Vincent Square\, London\
 , SW1P 2PE\, United Kingdom;X-APPLE-RADIUS=100;X-TITLE=RHS Headquarters:ge
 o:51.494462,-0.134741
END:VEVENT
BEGIN:VTIMEZONE
TZID:Europe/London
X-LIC-LOCATION:Europe/London
BEGIN:DAYLIGHT
DTSTART:20250330T020000
TZOFFSETFROM:+0000
TZOFFSETTO:+0100
TZNAME:BST
END:DAYLIGHT
END:VTIMEZONE
END:VCALENDAR