BEGIN:VCALENDAR
VERSION:2.0
PRODID:-//wp-events-plugin.com//7.2.3.1//EN
TZID:Europe/London
X-WR-TIMEZONE:Europe/London
BEGIN:VEVENT
UID:1024@m25lib.org.uk
DTSTART;TZID=Europe/London:20251203T143000
DTEND;TZID=Europe/London:20251203T163000
DTSTAMP:20251022T080501Z
URL:https://www.m25lib.org.uk/events/visit-to-royal-college-of-physicians-
 tg4v-physicians-2/
SUMMARY:Visit to Royal College of Physicians[TG4v/physicians] - VISIT NOW F
 ULL
DESCRIPTION:&nbsp\;\n\n*THIS VISIT IS NOW FULL AND A WAITING LIST IS AVAILA
 BLE*\n\nThe Royal College of Physicians is a medical membership organisati
 on and charity with a 500-year history. Today it maintains two libraries\,
  the RCP Library and the Heritage Library. Rare books and special collecti
 ons librarian Katie Birkwood will introduce both libraries and their servi
 ces. Beginning with a short tour of the RCP museum collections\, there wil
 l be an overview of the Heritage Library and its services\, and the contem
 porary services provided to RCP fellows and members through the RCP Librar
 y. There will also be a chance to view and handle some rare book treasures
  from the collection. The visit will end with a chance to view the current
  RCP exhibition ‘A body of knowledge’\, which explores 500 years of bo
 ok collecting at the College.\n\n\n&nbsp\;\n\nAccessibility: Building has 
 step-free access to all areas via various lifts\, and an accessible toilet
 . Assistance dogs are welcome. Large print exhibition captions are availab
 le on the gallery. Further accessibility information is listed here: https
 ://history.rcp.ac.uk/visit-us/accessibility. Please contact us with any sp
 ecific access requirements and we will be happy to advise about other avai
 lable accommodations.\n\n&nbsp\;\n\n\nBookings for visits are open to memb
 ers of the M25 Consortium of Academic Libraries only.\n\n*THIS VISIT IS NO
 W FULL AND A WAITING LIST IS AVAILABLE* To book a place on the waiting lis
 t\, please use our online booking form for M25 Members and enter 'n/a' in 
 the purchase order field.\n\nIf subsequent to booking a place on a cpd25 v
 isit you find that you are unable to attend\, we ask that you let us know
  this as soon as possible.\n\nCancellations received less than three worki
 ng days before the event will be charged a £15 cancellation fee. In the e
 vent of a ‘no-show’ on the day\, £25 will be charged.\n\n&nbsp\;\n\nP
 lease note that advance booking is required. If you have not received a bo
 oking confirmation email\, you won't be included on the registration list 
 and may be turned away on the day. Please email cpd25@london.ac.uk if you 
 are unsure if you have a confirmed booking.
CATEGORIES:cpd25 Visits
LOCATION:Royal College of Physicians\, 11 St Andrews Place\, London\, Great
 er London\, NW1 4LE\, United Kingdom
GEO:51.525865;-0.145281
X-APPLE-STRUCTURED-LOCATION;VALUE=URI;X-ADDRESS=11 St Andrews Place\, Londo
 n\, Greater London\, NW1 4LE\, United Kingdom;X-APPLE-RADIUS=100;X-TITLE=R
 oyal College of Physicians:geo:51.525865,-0.145281
END:VEVENT
BEGIN:VTIMEZONE
TZID:Europe/London
X-LIC-LOCATION:Europe/London
BEGIN:STANDARD
DTSTART:20251026T010000
TZOFFSETFROM:+0100
TZOFFSETTO:+0000
TZNAME:GMT
END:STANDARD
END:VTIMEZONE
END:VCALENDAR