BEGIN:VCALENDAR
VERSION:2.0
PRODID:-//wp-events-plugin.com//7.2.3.1//EN
TZID:Europe/London
X-WR-TIMEZONE:Europe/London
BEGIN:VEVENT
UID:1045@m25lib.org.uk
DTSTART;TZID=Europe/London:20260805T140000
DTEND;TZID=Europe/London:20260805T170000
DTSTAMP:20260401T115628Z
URL:https://www.m25lib.org.uk/events/visit-to-the-house-of-commonstg1v-hoc
 -2026/
SUMMARY:Visit to the House of Commons Library[TG1v/HoC] - FULL
DESCRIPTION:\n\n&nbsp\;\n\n\n*THIS VISIT IS NOW FULL AND A WAITING LIST IS 
 AVAILABLE*\n\nThis visit to the House of Commons Library will include talk
 s from several members of staff of the House of Commons Library about thei
 r work\, how the service supports Members of Parliament and how this links
  to the wider academic and research library sector.  We will also provide
  a tour of the House of Commons Library which is normally only open to Mem
 bers of Parliament\, and a tour of the Palace of Westminster.   \n\n\nA
 ccessibility: There are steps\, uneven floors and some walking and standin
 g involved in the tour and getting around the building - if any attendees 
 might find this difficult\, advanced warning would be helpful - please inc
 lude any requirements on your booking form\, or email cpd25@london.ac.uk.\
 n\n&nbsp\;\n\nBookings for visits are open to members of the M25 Consortiu
 m of Academic Libraries only.\n\n\n*THIS VISIT IS NOW FULL AND A WAITING L
 IST IS AVAILABLE*. To book a place on the waiting list please use our onli
 ne booking form for M25 Members.\n\nIf subsequent to booking a place on a 
 cpd25 visit you find that you are unable to attend\, we ask that you let 
 us know this as soon as possible.\n\nCancellations received less than thre
 e working days before the event will be charged a £15 cancellation fee. I
 n the event of a ‘no-show’ on the day\, £25 will be charged.\n\nPleas
 e note that advance booking is required. If you have not received a bookin
 g confirmation email\, you won't be included on the registration list and 
 may be turned away on the day. Please email cpd25@london.ac.uk if you are 
 unsure if you have a confirmed booking.
CATEGORIES:cpd25 Events,cpd25 Visits
LOCATION:Palace of Westminster\, Cromwell Green entrance\, London\, SW1A 0A
 A\, United Kingdom
GEO:51.499724;-0.124883
X-APPLE-STRUCTURED-LOCATION;VALUE=URI;X-ADDRESS=Cromwell Green entrance\, L
 ondon\, SW1A 0AA\, United Kingdom;X-APPLE-RADIUS=100;X-TITLE=Palace of Wes
 tminster:geo:51.499724,-0.124883
END:VEVENT
BEGIN:VTIMEZONE
TZID:Europe/London
X-LIC-LOCATION:Europe/London
BEGIN:DAYLIGHT
DTSTART:20260329T020000
TZOFFSETFROM:+0000
TZOFFSETTO:+0100
TZNAME:BST
END:DAYLIGHT
END:VTIMEZONE
END:VCALENDAR