BEGIN:VCALENDAR
VERSION:2.0
PRODID:-//wp-events-plugin.com//7.2.3.1//EN
TZID:Europe/London
X-WR-TIMEZONE:Europe/London
BEGIN:VEVENT
UID:834@m25lib.org.uk
DTSTART;TZID=Europe/London:20200422T140000
DTEND;TZID=Europe/London:20200422T160000
DTSTAMP:20200319T092057Z
URL:https://www.m25lib.org.uk/events/visit-to-the-prison-library-at-hmp-wa
 ndsworth-tg2v/
SUMMARY:Visit to the prison library at HMP Wandsworth [TG2v/Wandsworth] - P
 lease note this visit has been postponed until further notice
DESCRIPTION:\n\nTHIS VISIT HAS BEEN POSTPONED UNTIL FURTHER NOTICE. Please 
 contact cpd25@london.ac.uk with any queries\n\nJoin us for a tour of the l
 ibrary\, college and prison at HMP Wandsworth. The visit will include a ta
 lk about how the library plays a vital role within the prison\, a talk abo
 ut the services and activities on offer to the prisoners via the library\,
  a day in the life on the prison library and how prisoners can access the 
 library\, and a Q&amp\;A session.\n\nAddress:\n\nHMP Wandsworth\n\nHeathfi
 eld Road\n\nWandsworth\n\nSW18 3HU\n\n\nAll visitors will be required to b
 ring photo ID.\n\nPlease note that lift access is not easily accessible. T
 he library is located on the 1st floor. It is quite a walk to the library 
 from the main gate. \n\n&nbsp\;\n\nBookings for visits are open to members
  of the M25 Consortium of Academic Libraries only.\n\nTo reserve a space p
 lease use our online booking form. (As visits are free to attend\, a PO nu
 mber is not required - please enter 'n/a' in the purchase order field on t
 he booking form).\n\nIf subsequent to booking a place on a cpd25 visit you
  find that you are unable to attend\, we ask that you let us know this as
  soon as possible.\n\nCancellations received less than three working days 
 before the event will be charged a £15 cancellation fee. In the event of 
 a ‘no-show’ on the day\, £25 will be charged.\n\nPlease note that adv
 ance booking is required\, you may be turned away on the day if you do not
  reserve your place in advance.
CATEGORIES:cpd25 Events,cpd25 Visits
LOCATION:HMP Wandsworth\, Heathfield Road\, Wandsworth\, London\, SW18 3HU\
 , United Kingdom
GEO:51.4491441;-0.1749514000000545
X-APPLE-STRUCTURED-LOCATION;VALUE=URI;X-ADDRESS=Heathfield Road\, Wandswort
 h\, London\, SW18 3HU\, United Kingdom;X-APPLE-RADIUS=100;X-TITLE=HMP Wand
 sworth:geo:51.4491441,-0.1749514000000545
END:VEVENT
BEGIN:VTIMEZONE
TZID:Europe/London
X-LIC-LOCATION:Europe/London
BEGIN:DAYLIGHT
DTSTART:20200329T020000
TZOFFSETFROM:+0000
TZOFFSETTO:+0100
TZNAME:BST
END:DAYLIGHT
END:VTIMEZONE
END:VCALENDAR