BEGIN:VCALENDAR
VERSION:2.0
PRODID:-//wp-events-plugin.com//7.2.3.1//EN
TZID:Europe/London
X-WR-TIMEZONE:Europe/London
BEGIN:VEVENT
UID:828@m25lib.org.uk
DTSTART;TZID=Europe/London:20200317T140000
DTEND;TZID=Europe/London:20200317T160000
DTSTAMP:20200317T114139Z
URL:https://www.m25lib.org.uk/events/visit-to-the-uel-archives/
SUMMARY:Visit to the UEL Archives[TG4v/UEL] - Please note this visit has be
 en postponed until further notice
DESCRIPTION:\n\nTHIS VISIT HAS BEEN POSTPONED UNTIL FURTHER NOTICE. Please 
 contact cpd25@london.ac.uk with any queries.\n\nThis event will be an oppo
 rtunity to hear about the range and scope of our civic engagement and outr
 each projects with the archival collections that we hold here at UEL.  Ov
 er the past several years we have undertaken projects looking at the life 
 histories of refugees in East London and the creation of the Living Refuge
 e Archive\; performance theatre based on archival narratives with our UG p
 erforming arts students\; working with the UEL OLIve course for refugees a
 nd asylum seekers\; ongoing co-productive work documenting the community h
 istory of North Woolwich and Silvertown\; and a Heritage Lottery Funded pr
 oject “Passing the Flame” documenting the inter-generational legacies 
 of the three London Olympics.\n\nThere will also be time to sample materia
 ls from our Archival Collections including the Refugee Council Archive\; H
 ackney Empire Theatre Archive\; Eastside Community Heritage Oral History A
 rchive and the British Olympic Association!  Listen to life histories\; e
 xplore a pirate map\; and maybe even hold an Olympic Torch!\n\nUEL Archive
 s - https://www.uel.ac.uk/student-life/library/library-archive\n\nLiving R
 efugee Archives - http://www.livingrefugeearchive.org/\n\nTate Lives Trail
  - http://www.tatelivestrail.org.uk/en/\n\nFinding us:  https://www.uel.a
 c.uk/about/finding-us\nUniversity of East London - Docklands Campus\, Libr
 ary\, Archive and Learning Services\, Room: DL.G.02\n\n\n\nBookings for vi
 sits are open to members of the M25 Consortium of Academic Libraries only.
 \n\nTo reserve a space please use our online booking form. (As visits are 
 free to attend\, a PO number is not required - please enter 'n/a' in the p
 urchase order field on the booking form).\n\nIf subsequent to booking a pl
 ace on a cpd25 visit you find that you are unable to attend\, we ask that
  you let us know this as soon as possible.\n\nCancellations received less 
 than three working days before the event will be charged a £15 cancellati
 on fee. In the event of a ‘no-show’ on the day\, £25 will be charged.
 \n\nPlease note that advance booking is required\, you may be turned away 
 on the day if you do not reserve your place in advance.
CATEGORIES:cpd25 Events,cpd25 Visits
LOCATION:University of East London\, Docklands Campus\, 4-6 University Way\
 , London\, E16 2ED\, London\, United Kingdom
GEO:51.507407;0.066197
X-APPLE-STRUCTURED-LOCATION;VALUE=URI;X-ADDRESS=4-6 University Way\, London
 \, E16 2ED\, London\, United Kingdom;X-APPLE-RADIUS=100;X-TITLE=University
  of East London\, Docklands Campus:geo:51.507407,0.066197
END:VEVENT
BEGIN:VTIMEZONE
TZID:Europe/London
X-LIC-LOCATION:Europe/London
BEGIN:STANDARD
DTSTART:20191027T010000
TZOFFSETFROM:+0100
TZOFFSETTO:+0000
TZNAME:GMT
END:STANDARD
END:VTIMEZONE
END:VCALENDAR