BEGIN:VCALENDAR
VERSION:2.0
PRODID:-//wp-events-plugin.com//7.2.3.1//EN
TZID:Europe/London
X-WR-TIMEZONE:Europe/London
BEGIN:VEVENT
UID:1039@m25lib.org.uk
DTSTART;TZID=Europe/London:20260529T150000
DTEND;TZID=Europe/London:20260529T160000
DTSTAMP:20260311T100226Z
URL:https://www.m25lib.org.uk/events/visit-to-wellcome-collection-library-
 tg1v-wellcome/
SUMMARY:Visit to Wellcome Collection Library[TG1v/Wellcome] - FULL
DESCRIPTION:&nbsp\;\n\n*THIS VISIT IS NOW FULL AND A WAITING LIST IS AVAILA
 BLE*\n\nThis session will include a 20-30 minute introduction to Wellco
 me Collection\, including its history and holdings\, as well as informati
 on on how to become a member of the library. This will be followed by a to
 ur of the Open Shelf collection\, which features printed and published mat
 erial dated post-1900. \n\n\n&nbsp\;\n\nAccessibility: Full building acce
 ssibility provision can be found on this webpage: Accessibility Wellcome
  Collection\n\nWithin the library itself: \n\n 	There is a lift between 
 floors \n\n\n 	Silent study space \n\n\n 	Fairly bright lighting \n\n\n
  	Sensory equipment such as headphones\, sunglasses\, weighted blankets 
 and fidget toys available for visitors to borrow if needed \n\n&nbsp\;\n\
 n\nBookings for visits are free of charge but are open to members of the M
 25 Consortium of Academic Libraries only.\n\n*THIS VISIT IS NOW FULL AND A
  WAITING LIST IS AVAILABLE*. To book a place on the waiting list\, please 
 use our online booking form for M25 Members.\n\nIf subsequent to booking a
  place on a cpd25 visit you find that you are unable to attend\, we ask t
 hat you let us know this as soon as possible.\n\nCancellations received le
 ss than three working days before the event will be charged a £15 cancell
 ation fee. In the event of a ‘no-show’ on the day\, £25 will be charg
 ed.\n\n&nbsp\;\n\nPlease note that advance booking is required. If you hav
 e not received a booking confirmation email\, you won't be included on the
  registration list and may be turned away on the day. Please email cpd25@l
 ondon.ac.uk if you are unsure if you have a confirmed booking.
CATEGORIES:cpd25 Visits
LOCATION:Wellcome Collection\, 183 Euston Road\, London\, NW1 2BE\, United 
 Kingdom
GEO:51.525905;-0.133878
X-APPLE-STRUCTURED-LOCATION;VALUE=URI;X-ADDRESS=183 Euston Road\, London\, 
 NW1 2BE\, United Kingdom;X-APPLE-RADIUS=100;X-TITLE=Wellcome Collection:ge
 o:51.525905,-0.133878
END:VEVENT
BEGIN:VTIMEZONE
TZID:Europe/London
X-LIC-LOCATION:Europe/London
BEGIN:DAYLIGHT
DTSTART:20260329T020000
TZOFFSETFROM:+0000
TZOFFSETTO:+0100
TZNAME:BST
END:DAYLIGHT
END:VTIMEZONE
END:VCALENDAR