BEGIN:VCALENDAR
VERSION:2.0
PRODID:-//wp-events-plugin.com//7.2.3.1//EN
TZID:Europe/London
X-WR-TIMEZONE:Europe/London
BEGIN:VEVENT
UID:300@m25lib.org.uk
DTSTART;TZID=Europe/London:20090312T120000
DTEND;TZID=Europe/London:20090312T120000
DTSTAMP:20170315T113007Z
URL:https://www.m25lib.org.uk/events/visit-to-wiener-library/
SUMMARY:Visit to Wiener Library
DESCRIPTION:Visit to The Wiener Library Institute of Contemporary History. 
 \nThursday 12th March 2009 at 10am. \n\nThe Wiener Library is the world's 
 oldest Holocaust memorial institution\, tracing its history back to 1933. 
 Alfred Wiener\, a German Jew who worked in the Central Association of Germ
 an Citizens of Jewish Faith\, fled Germany in\n1933 for Amsterdam. Togethe
 r with Prof. David Cohen\, he set up the Jewish Central Information Office
 \, collecting and disseminating information about events happening in Nazi
  Germany. \n\nAfter the war the Library's academic reputation increased an
 d the collecting policies were broadened.\nToday the Library still acquire
 s major collections\, holds regular lectures and events\, and provides a f
 ocal point for researchers\, the media\, the public and students. \n\nThe 
 collection relates to the causes and legacies of the Holocaust\, including
  its historiography and documentation. It also includes documentation rela
 ting to Jewish refugees and exiles in Great Britain\, Kindertransport and 
 the resistance against the racial persecution of Jews by Nazis and collabo
 rators\n\nPlease note that places for this visit are limited.\nTo book a p
 lace\, please fill in our online booking form at http://www.cpd25.ac.uk/co
 mponent/option\,com_philaform/Itemid\,98/form_id\,\n2/\nor email us direct
  at cpd25@lse.ac.uk
CATEGORIES:M25 Events
END:VEVENT
BEGIN:VTIMEZONE
TZID:Europe/London
X-LIC-LOCATION:Europe/London
BEGIN:STANDARD
DTSTART:20081026T010000
TZOFFSETFROM:+0100
TZOFFSETTO:+0000
TZNAME:GMT
END:STANDARD
END:VTIMEZONE
END:VCALENDAR